BEGIN:VCALENDAR
VERSION:2.0
PRODID:-//ChamberMaster//Event Calendar 2.0//EN
METHOD:PUBLISH
X-PUBLISHED-TTL:P3D
REFRESH-INTERVAL:P3D
CALSCALE:GREGORIAN
BEGIN:VEVENT
DTSTART;VALUE=DATE:20140306
DTEND;VALUE=DATE:20140310
TRANSP:TRANSPARENT
X-MICROSOFT-CDO-ALLDAYEVENT:TRUE
SUMMARY:Tulsa Home & Garden Show
DESCRIPTION:The Coweta Chamber of Commerce is partnering with the Wagoner Chamber and Wagoner County Economic Development Authority again to have a booth at the Tulsa Home & Garden Show.  Stop by Booth 112 on the upper level at Expo Square.
X-ALT-DESC;FMTTYPE=text/html:<span style="font-size: 14px\;"><span style="font-family: verdana\;">The Coweta Chamber of Commerce is partnering with the Wagoner Chamber and Wagoner County Economic Development Authority again to have a booth at the Tulsa Home &amp\; Garden Show.&nbsp\; Stop by&nbsp\;Booth 112 on the upper level&nbsp\;at Expo Square.&nbsp\; </span></span><br />\n<br type="_moz" />\n
LOCATION:Expo Square Tulsa County Fairgrounds 4145 East 21st Street Tulsa\, OK 74112
UID:e.1307.623
SEQUENCE:3
DTSTAMP:20260424T161934Z
URL:https://business.cowetachamber.com/events/details/tulsa-home-garden-show-03-06-2014-623
END:VEVENT

END:VCALENDAR
