BEGIN:VCALENDAR
VERSION:2.0
PRODID:-//ChamberMaster//Event Calendar 2.0//EN
METHOD:PUBLISH
X-PUBLISHED-TTL:P3D
REFRESH-INTERVAL:P3D
CALSCALE:GREGORIAN
BEGIN:VEVENT
DTSTART:20140202T180000Z
DTEND:20140202T193000Z
X-MICROSOFT-CDO-ALLDAYEVENT:FALSE
SUMMARY:SOUPer Bowl Youth Mission Fundraiser
DESCRIPTION:Want a good bowl of soup before the Super Bowl starts?  Join us at Coweta First UMC (206 West Sycamore Street) in our Family Life Center from Noon-1:15pm for a fundraiser for our youth mission trip in Oklahoma this summer.  For $5\, you can eat a delicious bowl of soup and enjoy a time of fellowship!
X-ALT-DESC;FMTTYPE=text/html:Want a good bowl of soup before the Super Bowl starts? &nbsp\;Join us at Coweta First UMC (206 West Sycamore Street) in our Family Life Center from Noon-1:15pm for a fundraiser for our youth mission trip in Oklahoma this summer. &nbsp\;For $5\, you can eat a delicious bowl of soup and enjoy a time of fellowship! &nbsp\;<br type="_moz" />\n
LOCATION:Coweta First UMC (206 West Sycamore Street) in the Family Life Center
UID:e.1307.622
SEQUENCE:3
DTSTAMP:20260424T180032Z
URL:https://business.cowetachamber.com/events/details/souper-bowl-youth-mission-fundraiser-02-02-2014-622
END:VEVENT

END:VCALENDAR
