BEGIN:VCALENDAR
VERSION:2.0
PRODID:-//ChamberMaster//Event Calendar 2.0//EN
METHOD:PUBLISH
X-PUBLISHED-TTL:P3D
REFRESH-INTERVAL:P3D
CALSCALE:GREGORIAN
BEGIN:VEVENT
DTSTART:20220110T223000Z
DTEND:20220110T230000Z
X-MICROSOFT-CDO-ALLDAYEVENT:FALSE
SUMMARY:Ribbon Cutting for Coweta Youth Sports
DESCRIPTION:Please join us we welcome Coweta Youth Sports into membership with the Coweta Chamber of Commerce.
X-ALT-DESC;FMTTYPE=text/html:Please join us we welcome Coweta Youth Sports into membership with the Coweta Chamber of Commerce.&nbsp\;
LOCATION:Coweta Sports Complex Just south of Highway 51 on South 353rd E. Ave. (East of the Muskogee Turnpike) CowetaSouth
UID:e.1307.4592
SEQUENCE:3
DTSTAMP:20260419T122808Z
URL:https://business.cowetachamber.com/events/details/ribbon-cutting-for-coweta-youth-sports-4592
END:VEVENT

END:VCALENDAR
