BEGIN:VCALENDAR
VERSION:2.0
PRODID:-//ChamberMaster//Event Calendar 2.0//EN
METHOD:PUBLISH
X-PUBLISHED-TTL:P3D
REFRESH-INTERVAL:P3D
CALSCALE:GREGORIAN
BEGIN:VEVENT
DTSTART:20120608T160000Z
DTEND:20120608T170000Z
X-MICROSOFT-CDO-ALLDAYEVENT:FALSE
SUMMARY:Ribbon Cutting At Stick's 66
DESCRIPTION:Please join us on Friday\, June 8th\, at 11:ooam as we welcome our newest Chamber member\, Stick's 66 (located on Hwy 51 & 305th). There will be lots of door prizes to include: MP3 tower\, Weber Grill\, lawn chairs\, water raft cooler\, koozies\, shirts\, hats and much more!!! Free hot dogs!!! Pizza samples. 10 $50.00 gas certificates will be handed out. 2 liter Coke products and Power Aid $.99. Look forward to seeing everyone one there!!!!!!!!!!!
X-ALT-DESC;FMTTYPE=text/html:<div style="color: gray">\n	<h6 class="uiStreamMessage" data-ft="{&quot\;type&quot\;:1\,&quot\;tn&quot\;:&quot\;K&quot\;}">\n		<span style="font-size: 11px"><span class="messageBody" data-ft="{&quot\;type&quot\;:3}">Please join us on Friday\, June 8th\, at 11:ooam as we welcome our newest Chamber member\, Stick&#39\;s 66 (located on Hwy 51 &amp\; 305th). There will be lots of door prizes to include: MP3 tower\, Weber Grill\, lawn chairs\, water raft cooler\, koozies\, shirts\, hats and much more!!! Free hot dogs!!! Pizza samples. 10 $50.00 gas certificates will be handed out. 2 liter Coke products and Power Aid $.99. Look forward to seeing everyone one there!!!!!!!!!!!</span></span></h6>\n</div>\n
LOCATION:Stick's 66 located on the corner of Hwy 51 & 305th. Across from the football field
UID:e.1307.30
SEQUENCE:3
DTSTAMP:20260424T125859Z
URL:https://business.cowetachamber.com/events/details/ribbon-cutting-at-stick-s-66-06-08-2012-30
END:VEVENT

END:VCALENDAR
