BEGIN:VCALENDAR
VERSION:2.0
PRODID:-//ChamberMaster//Event Calendar 2.0//EN
METHOD:PUBLISH
X-PUBLISHED-TTL:P3D
REFRESH-INTERVAL:P3D
CALSCALE:GREGORIAN
BEGIN:VEVENT
DTSTART:20200312T233000Z
DTEND:20200313T013000Z
X-MICROSOFT-CDO-ALLDAYEVENT:FALSE
SUMMARY:Pickleball
DESCRIPTION:Adults 45 years of age and older are welcome to come play Pickleball  on Thursday nights at 6:30pm.
X-ALT-DESC;FMTTYPE=text/html:Adults 45 years of age and older are welcome to come play Pickleball &nbsp\;on Thursday nights at 6:30pm.
LOCATION:Coweta Assembly Outreach Center Gym 29707 E. State Hwy 51 Coweta\, Ok 74429
UID:e.1307.3902
SEQUENCE:3
DTSTAMP:20260422T014524Z
URL:https://business.cowetachamber.com/events/details/pickleball-03-12-2020-3902
END:VEVENT

END:VCALENDAR
