BEGIN:VCALENDAR
VERSION:2.0
PRODID:-//ChamberMaster//Event Calendar 2.0//EN
METHOD:PUBLISH
X-PUBLISHED-TTL:P3D
REFRESH-INTERVAL:P3D
CALSCALE:GREGORIAN
BEGIN:VEVENT
DTSTART:20170430T000000Z
DTEND:20170430T020000Z
X-MICROSOFT-CDO-ALLDAYEVENT:FALSE
SUMMARY:My Daughter Is Crazy But Promising
DESCRIPTION:CHS Drama presents Tim Kelley's play titled My Daughter is Promising But Crazy. It's the 1970's and the world is full of polyester\, big hair\, and disco dancing. Screenwriter Bab's Granger buys the Ritz Apache Lodge in the desert of Arizona and inherits a hotel of crazy guests. This farce is full of kooky characters\, sight gags\, and aliens. So grab some bell-bottoms and that bottle of Aqua Net and head out to Central Elementary and dance the night away.
X-ALT-DESC;FMTTYPE=text/html:CHS Drama presents Tim Kelley&#39\;s play titled My Daughter is Promising But Crazy. It&#39\;s the 1970&#39\;s and the world is full of polyester\, big hair\, and disco dancing. Screenwriter Bab&#39\;s Granger buys the Ritz Apache Lodge in the desert of Arizona and inherits a hotel of crazy guests. This farce is full of kooky characters\, sight gags\, and aliens. So grab some bell-bottoms and that bottle of Aqua Net and head out to Central Elementary and dance the night away.
LOCATION:Central Elementary Stage
UID:e.1307.1998
SEQUENCE:3
DTSTAMP:20260425T165110Z
URL:https://business.cowetachamber.com/events/details/my-daughter-is-crazy-but-promising-1998
END:VEVENT

END:VCALENDAR
