BEGIN:VCALENDAR
VERSION:2.0
PRODID:-//ChamberMaster//Event Calendar 2.0//EN
METHOD:PUBLISH
X-PUBLISHED-TTL:P3D
REFRESH-INTERVAL:P3D
CALSCALE:GREGORIAN
BEGIN:VEVENT
DTSTART:20170928T220000Z
DTEND:20170929T010000Z
X-MICROSOFT-CDO-ALLDAYEVENT:FALSE
SUMMARY:Late Night Shopping and Dining - Broadway District in Downtown Coweta
DESCRIPTION:Late Night Shopping in Coweta's Broadway District
X-ALT-DESC;FMTTYPE=text/html:Late Night Shopping in Coweta&#39\;s Broadway District
LOCATION:Downtown Coweta at participating businesses
UID:e.1307.2069
SEQUENCE:3
DTSTAMP:20260425T104032Z
URL:https://business.cowetachamber.com/events/details/late-nigh-shopping-and-dining-broadway-district-in-downtown-coweta-09-28-2017-2069
END:VEVENT

END:VCALENDAR
