BEGIN:VCALENDAR
VERSION:2.0
PRODID:-//ChamberMaster//Event Calendar 2.0//EN
METHOD:PUBLISH
X-PUBLISHED-TTL:P3D
REFRESH-INTERVAL:P3D
CALSCALE:GREGORIAN
BEGIN:VEVENT
DTSTART:20190325T173000Z
DTEND:20190403T203000Z
X-MICROSOFT-CDO-ALLDAYEVENT:FALSE
SUMMARY:Intermediate Excel Class
DESCRIPTION:A more in-depth knowledge of Excel's   Time saving techniques   Tips for creating charts\, graphs and tables to wow your audience.   How to use Pivot Table reports and Pivot Charts to filter and summarize your data and worksheets.   Sort and filter tables.   Structure references\, validate\, and transport data.
X-ALT-DESC;FMTTYPE=text/html:A more in-depth knowledge of Excel&rsquo\;s &bull\; Time saving techniques &bull\; Tips for creating charts\, graphs and tables to wow your audience. &bull\; How to use Pivot Table reports and Pivot Charts to filter and summarize your data and worksheets. &bull\; Sort and filter tables. &bull\; Structure references\, validate\, and transport data.
LOCATION:Indian Capital Technology Center Building C Computer Lab Muskogee Campus
UID:e.1307.3498
SEQUENCE:3
DTSTAMP:20260422T174523Z
URL:https://business.cowetachamber.com/events/details/intermediate-excel-class-3498
END:VEVENT

END:VCALENDAR
