BEGIN:VCALENDAR
VERSION:2.0
PRODID:-//ChamberMaster//Event Calendar 2.0//EN
METHOD:PUBLISH
X-PUBLISHED-TTL:P3D
REFRESH-INTERVAL:P3D
CALSCALE:GREGORIAN
BEGIN:VEVENT
DTSTART;VALUE=DATE:20130226
DTEND;VALUE=DATE:20130227
TRANSP:TRANSPARENT
X-MICROSOFT-CDO-ALLDAYEVENT:TRUE
SUMMARY:Goodfellas Pizza % day\,all day long.
DESCRIPTION:This is for Project Graduation. Thank you for your support!
X-ALT-DESC;FMTTYPE=text/html:This is for Project Graduation. Thank you for your support!
LOCATION:
UID:e.1307.118
SEQUENCE:3
DTSTAMP:20260425T015106Z
URL:https://business.cowetachamber.com/events/details/goodfellas-pizza-day-all-day-long-02-26-2013-118
END:VEVENT

END:VCALENDAR
