BEGIN:VCALENDAR
VERSION:2.0
PRODID:-//ChamberMaster//Event Calendar 2.0//EN
METHOD:PUBLISH
X-PUBLISHED-TTL:P3D
REFRESH-INTERVAL:P3D
CALSCALE:GREGORIAN
BEGIN:VEVENT
DTSTART:20120629T220000Z
DTEND:20120630T030000Z
X-MICROSOFT-CDO-ALLDAYEVENT:FALSE
SUMMARY:Fox 23 Road Show
DESCRIPTION:Fox23 is going "On the Road" in Coweta on Friday\, June 29th.  Fox23 will be live in Coweta for the 5pm\, 9pm and 10pm newscasts.  Fox23 encourages viewers to come meet anchors Clay Loney\, Chera Kimiko\, and James Aydelott.  \n\n\n\nFox23 News will focus on the current attractions and sites to visit in Coweta.  On the Road is designed to showcase your community while encouraging viewers to experience Coweta and your business.
X-ALT-DESC;FMTTYPE=text/html:Fox23 is going &quot\;On the&nbsp\;Road&quot\; in Coweta on&nbsp\;Friday\, June&nbsp\;29th.&nbsp\; Fox23 will be live&nbsp\;in Coweta for the&nbsp\;5pm\, 9pm&nbsp\;and 10pm&nbsp\;newscasts.&nbsp\; Fox23 encourages viewers to come meet anchors Clay Loney\, Chera Kimiko\, and James Aydelott.&nbsp\;&nbsp\;<br />\n<br />\nFox23&nbsp\;News will focus&nbsp\;on the current attractions and sites to visit&nbsp\;in Coweta.&nbsp\; On the&nbsp\;Road is&nbsp\;designed&nbsp\;to showcase your&nbsp\;community while encouraging viewers to experience Coweta and your business.&nbsp\;&nbsp\;
LOCATION:Johnny Lee Campbell Park (park behind the library)
UID:e.1307.28
SEQUENCE:3
DTSTAMP:20260424T125843Z
URL:https://business.cowetachamber.com/events/details/fox-23-road-show-06-29-2012-28
END:VEVENT

END:VCALENDAR
