BEGIN:VCALENDAR
VERSION:2.0
PRODID:-//ChamberMaster//Event Calendar 2.0//EN
METHOD:PUBLISH
X-PUBLISHED-TTL:P3D
REFRESH-INTERVAL:P3D
CALSCALE:GREGORIAN
BEGIN:VEVENT
DTSTART:20120629T170000Z
DTEND:20120629T220000Z
X-MICROSOFT-CDO-ALLDAYEVENT:FALSE
SUMMARY:Feel Wild. Give Blood.
DESCRIPTION:Blood donors can 'FEEL WILD' about giving June 29\, from noon to 5 pm at an Oklahoma Blood Institute (OBI) summer blood drive. Coweta Chamber of Commerce will sponsor the event in the OBI bloodmobile.
X-ALT-DESC;FMTTYPE=text/html:<div style="color: gray">\n	<span id="yui_3_2_0_1_1340738384388126" style="font-family: 'sans-serif'">Blood donors can &lsquo\;FEEL WILD&rsquo\; about giving June 29\, from noon to 5 pm at an Oklahoma Blood Institute (OBI) summer blood drive. Coweta Chamber of Commerce will sponsor the event in the OBI bloodmobile.</span></div>\n
LOCATION:BancFirst\, 14269 S Highway 51\, in Coweta.Click here to edit...
UID:e.1307.32
SEQUENCE:3
DTSTAMP:20260424T125755Z
URL:https://business.cowetachamber.com/events/details/feel-wild-give-blood-06-29-2012-32
END:VEVENT

END:VCALENDAR
