BEGIN:VCALENDAR
VERSION:2.0
PRODID:-//ChamberMaster//Event Calendar 2.0//EN
METHOD:PUBLISH
X-PUBLISHED-TTL:P3D
REFRESH-INTERVAL:P3D
CALSCALE:GREGORIAN
BEGIN:VEVENT
DTSTART:20140327T133000Z
DTEND:20140327T170000Z
X-MICROSOFT-CDO-ALLDAYEVENT:FALSE
SUMMARY:Excel Essentials
DESCRIPTION:Whether you are a start-up business owner or a seasoned veteran\, Microsoft Excel is a great program to utilize in your business. This workshop will teach the beginner to intermediate level user some of the basic functions and fundamental tasks of Microsoft Excel. You will also learn many business applications for this program including: company reporting\, information tracking\, data sorting and analysis\, graphs and charts. A working knowledge of Microsoft Excel is essential. Laptops will be provided.\n\n\n\nPresenter: Jeremy Layman\, REI Oklahoma\n\n\n\nPartners: Wagoner Chamber of Commerce\, Coweta Chamber of Commerce\, OkSBDC and REI's Women's Business Center
X-ALT-DESC;FMTTYPE=text/html:Whether you are a start-up business owner or a seasoned veteran\, Microsoft Excel is a great program to utilize in your business. This workshop will teach the beginner to intermediate level user some of the basic functions and fundamental tasks of Microsoft Excel. You will also learn many business applications for this program including: company reporting\, information tracking\, data sorting and analysis\, graphs and charts. A working knowledge of Microsoft Excel is essential. Laptops will be provided.<br />\n<br />\nPresenter: Jeremy Layman\, REI Oklahoma<br />\n<br />\nPartners: Wagoner Chamber of Commerce\, Coweta Chamber of Commerce\, OkSBDC and REI&rsquo\;s Women&rsquo\;s Business Center
LOCATION:Wagoner Civic Center 301 S Grant Avenue Wagoner\, OK 74467
UID:e.1307.648
SEQUENCE:3
DTSTAMP:20260424T101147Z
URL:https://business.cowetachamber.com/events/details/excel-essentials-03-27-2014-648
END:VEVENT

END:VCALENDAR
