BEGIN:VCALENDAR
VERSION:2.0
PRODID:-//ChamberMaster//Event Calendar 2.0//EN
METHOD:PUBLISH
X-PUBLISHED-TTL:P3D
REFRESH-INTERVAL:P3D
CALSCALE:GREGORIAN
BEGIN:VEVENT
DTSTART:20140408T130000Z
DTEND:20140408T220000Z
X-MICROSOFT-CDO-ALLDAYEVENT:FALSE
SUMMARY:Entrepreneurs Inspire Conference
DESCRIPTION:The Entrepreneurs Inspire Conference is geared broadly towards entrepreneurs who have just started a business\, those who may only have an idea for a new business\, and those who are looking to grow their existing businesses. The Inspire Conference is a resource-packed day featuring both local and national entrepreneurial role models discussing their failures and successes\, as well as providing conference attendees with the latest in business development and strategy. With over 1\,000 entrepreneurs and more than 30 acclaimed speakers in attendance\, the conference is also an incredible networking opportunity. http://riata.okstate.edu/inspire/
X-ALT-DESC;FMTTYPE=text/html:The Entrepreneurs Inspire Conference is geared broadly towards entrepreneurs who have just started a business\, those who may only have an idea for a new business\, and those who are looking to grow their existing businesses. The Inspire Conference is a resource-packed day featuring both local and national entrepreneurial role models discussing their failures and successes\, as well as providing conference attendees with the latest in business development and strategy. With over 1\,000 entrepreneurs and more than 30 acclaimed speakers in attendance\, the conference is also an incredible networking opportunity. http://riata.okstate.edu/inspire/
LOCATION:Tulsa Convention Center in Tulsa\, Oklahoma.
UID:e.1307.600
SEQUENCE:3
DTSTAMP:20260424T144318Z
URL:https://business.cowetachamber.com/events/details/entrepreneurs-inspire-conference-04-08-2014-600
END:VEVENT

END:VCALENDAR
