BEGIN:VCALENDAR
VERSION:2.0
PRODID:-//ChamberMaster//Event Calendar 2.0//EN
METHOD:PUBLISH
X-PUBLISHED-TTL:P3D
REFRESH-INTERVAL:P3D
CALSCALE:GREGORIAN
BEGIN:VEVENT
DTSTART:20130921T133000Z
DTEND:20131012T183000Z
X-MICROSOFT-CDO-ALLDAYEVENT:FALSE
SUMMARY:Entrepreneurs Inspire Bootcamp
DESCRIPTION:Building from key elements of Oklahoma State University's award-winning entrepreneurship curriculum\, the Entrepreneurs Inspire Bootcamp is a series of modules designed to assist entrepreneurs and aspiring entrepreneurs in growing businesses successfully and profitably.    This new and revised four-week program features more interaction with guest entrepreneurs and workshop sessions with industry experts for an improved hands-on experience on how to apply the lessons learned to a new start-up.
X-ALT-DESC;FMTTYPE=text/html:Building from key elements of Oklahoma State University&#39\;s award-winning entrepreneurship curriculum\, the Entrepreneurs Inspire Bootcamp is a series of modules designed to assist entrepreneurs and aspiring entrepreneurs in growing businesses successfully and profitably.&nbsp\; &nbsp\; This new and revised four-week program features more interaction with guest entrepreneurs and workshop sessions with industry experts for an improved hands-on experience on how to apply the lessons learned to a new start-up.
LOCATION:OSU-Tulsa Campus 700 N Greenwood Ave Tulsa\, OK 74106 ORU Campus 7777 S Lewis Ave Tulsa\, OK 74171
UID:e.1307.371
SEQUENCE:3
DTSTAMP:20260424T235745Z
URL:https://business.cowetachamber.com/events/details/entrepreneurs-inspire-bootcamp-09-21-2013-371
END:VEVENT

END:VCALENDAR
