BEGIN:VCALENDAR
VERSION:2.0
PRODID:-//ChamberMaster//Event Calendar 2.0//EN
METHOD:PUBLISH
X-PUBLISHED-TTL:P3D
REFRESH-INTERVAL:P3D
CALSCALE:GREGORIAN
BEGIN:VEVENT
DTSTART:20130726T150000Z
DTEND:20130726T153000Z
X-MICROSOFT-CDO-ALLDAYEVENT:FALSE
SUMMARY:Dixie's Cafe Dessert Tasting Ribbon Cutting
DESCRIPTION:Join us in welcoming Dixie's Caf  to Coweta!\n\n\n\nThere will be dessert sampling of Brandon's Mounds Brownie and Key Lime Cake as well as raspberry lemonade\, sweet tea and coffee.\n\n\n\nGrand opening will be the following Monday\, July 29.
X-ALT-DESC;FMTTYPE=text/html:Join us in welcoming Dixie&#39\;s Caf&eacute\; to Coweta!<br />\n<br />\nThere will be dessert sampling of Brandon&#39\;s Mounds Brownie and Key Lime Cake as well as raspberry lemonade\, sweet tea and coffee.<br />\n<br />\nGrand opening will be the following Monday\, July 29.
LOCATION:127 S. Broadway Downtown Coweta near the intersection of Cypress and Broadway (aka Oklahoma Hwy 72 aka Main St.)
UID:e.1307.367
SEQUENCE:3
DTSTAMP:20260425T043232Z
URL:https://business.cowetachamber.com/events/details/dixie-s-cafe-dessert-tasting-ribbon-cutting-07-26-2013-367
END:VEVENT

END:VCALENDAR
