BEGIN:VCALENDAR
VERSION:2.0
PRODID:-//ChamberMaster//Event Calendar 2.0//EN
METHOD:PUBLISH
X-PUBLISHED-TTL:P3D
REFRESH-INTERVAL:P3D
CALSCALE:GREGORIAN
BEGIN:VEVENT
DTSTART:20161021T170000Z
DTEND:20161021T220000Z
X-MICROSOFT-CDO-ALLDAYEVENT:FALSE
SUMMARY:Coweta Community Blood Drive
DESCRIPTION:OBI Bedlam Bash Blood Drive
X-ALT-DESC;FMTTYPE=text/html:OBI Bedlam Bash Blood Drive
LOCATION:BancFirst Coweta 4269 S. State Hwy. 51 Coweta\, OK 74429
UID:e.1307.1956
SEQUENCE:3
DTSTAMP:20260426T020449Z
URL:https://business.cowetachamber.com/events/details/coweta-community-blood-drive-1956
END:VEVENT

END:VCALENDAR
