BEGIN:VCALENDAR
VERSION:2.0
PRODID:-//ChamberMaster//Event Calendar 2.0//EN
METHOD:PUBLISH
X-PUBLISHED-TTL:P3D
REFRESH-INTERVAL:P3D
CALSCALE:GREGORIAN
BEGIN:VEVENT
DTSTART:20180713T170000Z
DTEND:20180713T220000Z
X-MICROSOFT-CDO-ALLDAYEVENT:FALSE
SUMMARY:Coweta Community Blood Drive
DESCRIPTION:GIVE LOCAL and let the ADVENTURE begin!!! Community Blood Drive to support local patients in need. Look for the bloodmobile at BancFirst Coweta
X-ALT-DESC;FMTTYPE=text/html:GIVE LOCAL and let the ADVENTURE begin!!! Community Blood Drive to support local patients in need. Look for the bloodmobile at BancFirst Coweta
LOCATION:BancFirst Coweta
UID:e.1307.3446
SEQUENCE:3
DTSTAMP:20260424T180445Z
URL:https://business.cowetachamber.com/events/details/coweta-community-blood-drive-07-13-2018-3446
END:VEVENT

END:VCALENDAR
