BEGIN:VCALENDAR
VERSION:2.0
PRODID:-//ChamberMaster//Event Calendar 2.0//EN
METHOD:PUBLISH
X-PUBLISHED-TTL:P3D
REFRESH-INTERVAL:P3D
CALSCALE:GREGORIAN
BEGIN:VEVENT
DTSTART:20170610T230000Z
DTEND:20170611T020000Z
X-MICROSOFT-CDO-ALLDAYEVENT:FALSE
SUMMARY:Coweta Class of 1987 30 Year Reunion
DESCRIPTION:The Coweta High School Class of 1987 will be celebrating their 30 year high school reunion. They will be gathering at the new field house and serving the famous Roys chicken for dinner. Please bring 10.00 per person cash at the door or 20.00 per couple for the food. They are excited to see everyone so mark your calendars and get ready for a night of fun and reminiscing.
X-ALT-DESC;FMTTYPE=text/html:The Coweta High School Class of 1987 will be celebrating their 30 year high school reunion. They will be gathering at the new field house and serving the famous Roys chicken for dinner. Please bring 10.00 per person cash at the door or 20.00 per couple for the food. They are excited to see everyone so mark your calendars and get ready for a night of fun and reminiscing.
LOCATION:Ricky Bryan Field House in Coweta
UID:e.1307.2014
SEQUENCE:3
DTSTAMP:20260425T134053Z
URL:https://business.cowetachamber.com/events/details/coweta-class-of-1987-30-year-reunion-2014
END:VEVENT

END:VCALENDAR
