BEGIN:VCALENDAR
VERSION:2.0
PRODID:-//ChamberMaster//Event Calendar 2.0//EN
METHOD:PUBLISH
X-PUBLISHED-TTL:P3D
REFRESH-INTERVAL:P3D
CALSCALE:GREGORIAN
BEGIN:VEVENT
DTSTART:20170227T170000Z
DTEND:20170227T190000Z
X-MICROSOFT-CDO-ALLDAYEVENT:FALSE
SUMMARY:Coweta Business Forum - Bringing Businesses & the Community Together
DESCRIPTION:Our goal is to connect with other local businesses to find ways to get the community to shop local throughout the year. Let's work together to promote unity and growth within the Coweta Business Community.  \n\nLunch provided by: The City of Coweta  \n\nHosted by: Virgil & Vickie Mobley (The UPS Store Owner's)
X-ALT-DESC;FMTTYPE=text/html:Our goal is to connect with other local businesses to find ways to get the community to shop local throughout the year. Let&#39\;s work together to promote unity and growth within the Coweta Business Community.&nbsp\;&nbsp\;<br />\nLunch provided by: The City of Coweta&nbsp\;&nbsp\;<br />\nHosted by: Virgil &amp\; Vickie Mobley (The UPS Store Owner&#39\;s)
LOCATION:Coweta Assembly of God Church 29707 E Hwy 51 Coweta\, OK 74429
UID:e.1307.1993
SEQUENCE:3
DTSTAMP:20260425T212419Z
URL:https://business.cowetachamber.com/events/details/coweta-business-forum-bringing-businesses-the-community-together-1993
END:VEVENT

END:VCALENDAR
