BEGIN:VCALENDAR
VERSION:2.0
PRODID:-//ChamberMaster//Event Calendar 2.0//EN
METHOD:PUBLISH
X-PUBLISHED-TTL:P3D
REFRESH-INTERVAL:P3D
CALSCALE:GREGORIAN
BEGIN:VEVENT
DTSTART:20200318T000000Z
DTEND:20200318T020000Z
X-MICROSOFT-CDO-ALLDAYEVENT:FALSE
SUMMARY:Co-ed Volleyball
DESCRIPTION:Adults of all ages are welcome to come play volleyball at 7:00pm on Tuesdays.  Babysitters are welcome for children up to 6th grade.
X-ALT-DESC;FMTTYPE=text/html:Adults of all ages are welcome to come play volleyball at 7:00pm on Tuesdays. &nbsp\;Babysitters are welcome for children up to 6th grade.
LOCATION:Coweta Assembly in the Outreach Center Gymnasium 29707 E. State Hwy 51 Coweta\, OK 74429
UID:e.1307.3577
SEQUENCE:3
DTSTAMP:20260422T014550Z
URL:https://business.cowetachamber.com/events/details/co-ed-volleyball-03-17-2020-3577
END:VEVENT

END:VCALENDAR
