BEGIN:VCALENDAR
VERSION:2.0
PRODID:-//ChamberMaster//Event Calendar 2.0//EN
METHOD:PUBLISH
X-PUBLISHED-TTL:P3D
REFRESH-INTERVAL:P3D
CALSCALE:GREGORIAN
BEGIN:VEVENT
DTSTART:20161108T000000Z
DTEND:20161108T030000Z
X-MICROSOFT-CDO-ALLDAYEVENT:FALSE
SUMMARY:CHS Paint & Potato Night
DESCRIPTION:CHS FCCLA & Art Dept. are once again sponsoring a night of eating and painting. We will be painting a cut snowman on a 11x14 canvas. The meal will include a bake potato with the works\, salad\, dessert and drink.
X-ALT-DESC;FMTTYPE=text/html:CHS FCCLA &amp\; Art Dept. are once again sponsoring a night of eating and painting. We will be painting a cut snowman on a 11x14 canvas. The meal will include a bake potato with the works\, salad\, dessert and drink.
LOCATION:Coweta High School
UID:e.1307.1960
SEQUENCE:3
DTSTAMP:20260426T003953Z
URL:https://business.cowetachamber.com/events/details/chs-paint-potato-night-1960
END:VEVENT

END:VCALENDAR
