BEGIN:VCALENDAR
VERSION:2.0
PRODID:-//ChamberMaster//Event Calendar 2.0//EN
METHOD:PUBLISH
X-PUBLISHED-TTL:P3D
REFRESH-INTERVAL:P3D
CALSCALE:GREGORIAN
BEGIN:VEVENT
DTSTART:20120802T220000Z
DTEND:20120803T000000Z
X-MICROSOFT-CDO-ALLDAYEVENT:FALSE
SUMMARY:Chamber Open House
DESCRIPTION:Come see the Chamber office and meet the new executive director Jennifer Humphries.
X-ALT-DESC;FMTTYPE=text/html:<p>\n	Come see the Chamber office and meet the new executive director Jennifer Humphries.</p>\n
LOCATION:117 W. Cypress
UID:e.1307.36
SEQUENCE:3
DTSTAMP:20260424T161757Z
URL:https://business.cowetachamber.com/events/details/chamber-open-house-08-02-2012-36
END:VEVENT

END:VCALENDAR
