BEGIN:VCALENDAR
VERSION:2.0
PRODID:-//ChamberMaster//Event Calendar 2.0//EN
METHOD:PUBLISH
X-PUBLISHED-TTL:P3D
REFRESH-INTERVAL:P3D
CALSCALE:GREGORIAN
BEGIN:VEVENT
DTSTART;VALUE=DATE:20250502
DTEND;VALUE=DATE:20250504
TRANSP:TRANSPARENT
X-MICROSOFT-CDO-ALLDAYEVENT:TRUE
SUMMARY:Bayou Bash 2025 Hosted by T-Johnny's Seafood & Cajun Market
DESCRIPTION:Two days of Oklahoma's best boiled crawfish\, shrimp and boudin hosted by T-Johnny's Seafood & Cajun Market- Oklahoma!\n\n\n\nAlong with great food\, there will be vendors\, jump houses for the kids\, snow cones\, live music\, a crawfish eating contest\, giveaways and cold beer.\n\n\n\nFriday entertainment will include performances by Travis Kidd\, Dakota Murillo & The Disoppointments\, King Cabbage\, Canyon Sons and Lance Gouge.\n\n\n\nSaturday entertainment will include performances by Brass Animals\, Casey West\, Emily Hollingshed\, Garrett Brown and Trett Charles.
X-ALT-DESC;FMTTYPE=text/html:Two days of Oklahoma&#39\;s best boiled crawfish\, shrimp and boudin hosted by T-Johnny&#39\;s Seafood &amp\; Cajun Market- Oklahoma!<br />\n<br />\nAlong with great food\, there will be vendors\, jump houses for the kids\, snow cones\, live music\, a crawfish eating contest\, giveaways and cold beer.<br />\n<br />\nFriday entertainment will include performances by Travis Kidd\, Dakota Murillo &amp\; The Disoppointments\, King Cabbage\, Canyon Sons and Lance Gouge.<br />\n<br />\nSaturday entertainment will include performances by Brass Animals\, Casey West\, Emily Hollingshed\, Garrett Brown and Trett Charles.
LOCATION:Downtown Coweta Broadway District Coweta\, OK
UID:e.1307.4857
SEQUENCE:3
DTSTAMP:20260424T112840Z
URL:https://business.cowetachamber.com/events/details/bayou-bash-2025-hosted-by-t-johnny-s-seafood-cajun-market-4857
END:VEVENT

END:VCALENDAR
