BEGIN:VCALENDAR
VERSION:2.0
PRODID:-//ChamberMaster//Event Calendar 2.0//EN
METHOD:PUBLISH
X-PUBLISHED-TTL:P3D
REFRESH-INTERVAL:P3D
CALSCALE:GREGORIAN
BEGIN:VEVENT
DTSTART:20170728T140000Z
DTEND:20170729T010000Z
X-MICROSOFT-CDO-ALLDAYEVENT:FALSE
SUMMARY:American Legion Baseball
DESCRIPTION:The Oklahoma State Championship tournament will be held at Coweta High School Baseball field on July 27th - July 29th. If a playoff game is necessary it will be played n July 30th at a time TBA.
X-ALT-DESC;FMTTYPE=text/html:The Oklahoma State Championship tournament will be held at Coweta High School Baseball field on July 27th - July 29th. If a playoff game is necessary it will be played n July 30th at a time TBA.
LOCATION:Coweta High School Baseball Field
UID:e.1307.2045
SEQUENCE:3
DTSTAMP:20260425T133925Z
URL:https://business.cowetachamber.com/events/details/american-legion-baseball-07-28-2017-2045
END:VEVENT

END:VCALENDAR
