BEGIN:VCALENDAR
VERSION:2.0
PRODID:-//ChamberMaster//Event Calendar 2.0//EN
METHOD:PUBLISH
X-PUBLISHED-TTL:P3D
REFRESH-INTERVAL:P3D
CALSCALE:GREGORIAN
BEGIN:VEVENT
DTSTART:20260423T150000Z
DTEND:20260423T153000Z
X-MICROSOFT-CDO-ALLDAYEVENT:FALSE
SUMMARY:2026 Ribbon Cutting for Budget Wrecker & Recycling\, LLC
DESCRIPTION:Join us at Jimmy Lee Campbell Park behind the Coweta Public Library for a ribbon cutting ceremony to welcome Budget Wrecker & Recycling\, LLC out of Wagoner as new members of the Coweta Chamber of Commerce.
X-ALT-DESC;FMTTYPE=text/html:<span style="font-size:11pt\;">Join us at Jimmy Lee Campbell Park behind the Coweta Public Library for a ribbon cutting ceremony to welcome Budget Wrecker &amp\; Recycling\, LLC out of Wagoner as new members of the Coweta Chamber of Commerce.&nbsp\;</span>
LOCATION:Jimmy Lee Campbell Park Southwest Corner of Cypress and Delaware Ave. Behind Coweta Public Library Downtown Coweta
UID:e.1307.5319
SEQUENCE:3
DTSTAMP:20260421T203427Z
URL:https://business.cowetachamber.com/events/details/2026-ribbon-cutting-for-budget-wrecker-recycling-llc-5319
END:VEVENT

END:VCALENDAR
