BEGIN:VCALENDAR
VERSION:2.0
PRODID:-//ChamberMaster//Event Calendar 2.0//EN
METHOD:PUBLISH
X-PUBLISHED-TTL:P3D
REFRESH-INTERVAL:P3D
CALSCALE:GREGORIAN
BEGIN:VEVENT
DTSTART:20260115T134500Z
DTEND:20260115T150000Z
X-MICROSOFT-CDO-ALLDAYEVENT:FALSE
SUMMARY:2026 January Coffee & Conversation
DESCRIPTION:We are kicking off the new year with our first Coffee & Conversation for 2026 at the Coweta Chamber office. Come check it out as we now have beautiful artwork depicting some of our community's most iconic landmarks featured in in the lobby. The artwork was gifted to us by our friends at Firstar Bank.\n\n\n\nWe will have morning beverages and snacks available to start your day off right. Bring your business cards and let's make those business connections!\n\n\n\nHope to see you for Coffee & Conversation!
X-ALT-DESC;FMTTYPE=text/html:We are kicking off the new year with our first Coffee &amp\; Conversation for 2026 at the Coweta Chamber office. Come check it out as we now have beautiful artwork depicting some of our community&#39\;s most iconic landmarks featured in in the lobby. The artwork was gifted to us by our friends at Firstar Bank.<br />\n<br />\nWe will have morning beverages and snacks available to start your day off right. Bring your business cards and let&#39\;s make those business connections!<br />\n<br />\nHope to see you for Coffee &amp\; Conversation!
LOCATION:Coweta Chamber of Commerce 115 S. Broadway Downtown Coweta
UID:e.1307.5301
SEQUENCE:3
DTSTAMP:20260422T164439Z
URL:https://business.cowetachamber.com/events/details/2026-january-coffee-conversation-5301
END:VEVENT

END:VCALENDAR
