BEGIN:VCALENDAR
VERSION:2.0
PRODID:-//ChamberMaster//Event Calendar 2.0//EN
METHOD:PUBLISH
X-PUBLISHED-TTL:P3D
REFRESH-INTERVAL:P3D
CALSCALE:GREGORIAN
BEGIN:VEVENT
DTSTART:20250904T124500Z
DTEND:20250904T140000Z
X-MICROSOFT-CDO-ALLDAYEVENT:FALSE
SUMMARY:2025 September Coffee & Conversation
DESCRIPTION:Networking is like coffee - energizing\, warm and best enjoyed with great company. Join us Thursday\, Sept. 4 at AR Exteriors as we gather for Coffee & Conversation hosted by business owner Richard Needham.\n\nOur social time will conclude with a Grand Re-Opening ribbon cutting celebration at 8:45 a.m.\n\n\n\nTo help us with a head count\, please go to https://cowetachamber.chambermaster.com/eventregistration/register/5288  and register your intent to attend.\n\n\n\nBring your business card and make some business connections. See you on September 4!
X-ALT-DESC;FMTTYPE=text/html:Networking is like coffee - energizing\, warm and best enjoyed with great company. Join us Thursday\, Sept. 4 at AR Exteriors as we gather for Coffee &amp\; Conversation hosted by business owner Richard Needham.<br />\nOur social time will conclude with a Grand Re-Opening ribbon cutting celebration at 8:45 a.m.<br />\n<br />\nTo help us with a head count\, please go to <a href="https://cowetachamber.chambermaster.com/eventregistration/register/5288">https://cowetachamber.chambermaster.com/eventregistration/register/5288</a>&nbsp\; and register your intent to attend.<br />\n<br />\nBring your business card and make some business connections. See you on September 4!<br />\n<br />\n&nbsp\;
LOCATION:AR Exteriors 405 N.Eufaula Ave. Coweta
UID:e.1307.5288
SEQUENCE:3
DTSTAMP:20260422T193151Z
URL:https://business.cowetachamber.com/events/details/2025-september-coffee-conversation-5288
END:VEVENT

END:VCALENDAR
