BEGIN:VCALENDAR
VERSION:2.0
PRODID:-//ChamberMaster//Event Calendar 2.0//EN
METHOD:PUBLISH
X-PUBLISHED-TTL:P3D
REFRESH-INTERVAL:P3D
CALSCALE:GREGORIAN
BEGIN:VEVENT
DTSTART:20250430T173000Z
DTEND:20250430T213000Z
X-MICROSOFT-CDO-ALLDAYEVENT:FALSE
SUMMARY:2025 Saddle Up & Donate Blood Drive at Koweta Indian Health Facility
DESCRIPTION:The Koweta Indian Health Facility is teaming up with Our Blood Institute to host a community blood drive. Walk-ins are welcome\, appointments encouraged to avoid wait time.\n\n\n\nAll donors will receive a commemorative "Saddle Up & Donate" t-shirt.
X-ALT-DESC;FMTTYPE=text/html:The Koweta Indian Health Facility is teaming up with Our Blood Institute to host a community blood drive. Walk-ins are welcome\, appointments encouraged to avoid wait time.<br />\n<br />\nAll donors will receive a commemorative &quot\;Saddle Up &amp\; Donate&quot\; t-shirt.
LOCATION:Koweta Indian Health Facility 31870 E. Highway 51 Coweta
UID:e.1307.4862
SEQUENCE:3
DTSTAMP:20260424T130242Z
URL:https://business.cowetachamber.com/events/details/2025-saddle-up-donate-blood-drive-at-koweta-indian-health-facility-4862
END:VEVENT

END:VCALENDAR
