BEGIN:VCALENDAR
VERSION:2.0
PRODID:-//ChamberMaster//Event Calendar 2.0//EN
METHOD:PUBLISH
X-PUBLISHED-TTL:P3D
REFRESH-INTERVAL:P3D
CALSCALE:GREGORIAN
BEGIN:VEVENT
DTSTART:20250429T204500Z
DTEND:20250429T211500Z
X-MICROSOFT-CDO-ALLDAYEVENT:FALSE
SUMMARY:2025 Ribbon Cutting for VIP Technology Solutions Group & Voice Services
DESCRIPTION:Join us for a ribbon cutting ceremony to celebrate the grand opening of VIP Technology Solutions Group & Voice Services' new location. This is the former location of FNB Coweta's Oneta Branch on the southeast corner of Oneta Road and Highway 51.\n\n\n\nWe will cut the ribbon at 3:45 p.m. and guests are invited to stay for the Open House from 4-6 p.m.
X-ALT-DESC;FMTTYPE=text/html:<span style="font-size:11pt\;">Join us for a ribbon cutting ceremony to celebrate the grand opening of VIP Technology Solutions Group &amp\; Voice Services&#39\; new location. This is the former location of FNB Coweta&rsquo\;s Oneta Branch on the southeast corner of Oneta Road and Highway 51.<br />\n<br />\nWe will cut the ribbon at 3:45 p.m. and guests are invited to stay for the Open House from 4-6 p.m.</span><br />\n&nbsp\;
LOCATION:VIP Technology Solutions Group & Voice Services 10097 S. 241st E. Ave. Broken Arrow
UID:e.1307.4861
SEQUENCE:3
DTSTAMP:20260424T125817Z
URL:https://business.cowetachamber.com/events/details/2025-ribbon-cutting-for-vip-technology-solutions-group-voice-services-4861
END:VEVENT

END:VCALENDAR
