BEGIN:VCALENDAR
VERSION:2.0
PRODID:-//ChamberMaster//Event Calendar 2.0//EN
METHOD:PUBLISH
X-PUBLISHED-TTL:P3D
REFRESH-INTERVAL:P3D
CALSCALE:GREGORIAN
BEGIN:VEVENT
DTSTART:20250624T160000Z
DTEND:20250625T043000Z
X-MICROSOFT-CDO-ALLDAYEVENT:FALSE
SUMMARY:2025 Ribbon Cutting for Target Marketing Print and Mail Solutions
DESCRIPTION:Please join us for a ribbon cutting celebration as we welcome Target Marketing Print and Mail Solutions in Broken Arrow as a member of the Coweta Chamber of Commerce.
X-ALT-DESC;FMTTYPE=text/html:Please join us for a ribbon cutting celebration as we welcome Target Marketing Print and Mail Solutions in Broken Arrow as a member of the Coweta Chamber of Commerce.&nbsp\;<br />\n&nbsp\;
LOCATION:Target Marketing Print and Mail Solutions 750 N. 45th Place Broken Arrow\, OK
UID:e.1307.4871
SEQUENCE:3
DTSTAMP:20260424T130000Z
URL:https://business.cowetachamber.com/events/details/2025-ribbon-cutting-for-target-marketing-print-and-mail-solutions-4871
END:VEVENT

END:VCALENDAR
