BEGIN:VCALENDAR
VERSION:2.0
PRODID:-//ChamberMaster//Event Calendar 2.0//EN
METHOD:PUBLISH
X-PUBLISHED-TTL:P3D
REFRESH-INTERVAL:P3D
CALSCALE:GREGORIAN
BEGIN:VEVENT
DTSTART:20250325T210000Z
DTEND:20250325T213000Z
X-MICROSOFT-CDO-ALLDAYEVENT:FALSE
SUMMARY:2025 Ribbon Cutting for House of Colour Coweta
DESCRIPTION:Please join us for a ribbon cutting celebration as we welcome Gwyndolyn Belman and House of Colour Coweta as a member of the Coweta Chamber of Commerce.
X-ALT-DESC;FMTTYPE=text/html:Please join us for a ribbon cutting celebration as we welcome Gwyndolyn Belman and House of Colour Coweta as a member of the Coweta Chamber of Commerce.&nbsp\;<br />\n&nbsp\;
LOCATION:House of Colour 13441 S. 270th E. Ave. Raleigh Waites Subdivision Coweta
UID:e.1307.4851
SEQUENCE:3
DTSTAMP:20260424T144432Z
URL:https://business.cowetachamber.com/events/details/2025-ribbon-cutting-for-house-of-colour-coweta-4851
END:VEVENT

END:VCALENDAR
