BEGIN:VCALENDAR
VERSION:2.0
PRODID:-//ChamberMaster//Event Calendar 2.0//EN
METHOD:PUBLISH
X-PUBLISHED-TTL:P3D
REFRESH-INTERVAL:P3D
CALSCALE:GREGORIAN
BEGIN:VEVENT
DTSTART:20250411T210000Z
DTEND:20250411T213000Z
X-MICROSOFT-CDO-ALLDAYEVENT:FALSE
SUMMARY:2025 Ribbon Cutting Brian Cannon - State Farm Insurance
DESCRIPTION:Please join us for a ribbon cutting celebration as we welcome Brian Cannon - State Farm Insurance as a new member of the Coweta Chamber of Commerce.
X-ALT-DESC;FMTTYPE=text/html:Please join us for a ribbon cutting celebration as we welcome Brian Cannon - State Farm Insurance as a new member of the Coweta Chamber of Commerce.&nbsp\;<br />\n&nbsp\;
LOCATION:Brian Cannon - State Farm 24232 E. Highway 51 Oneta Square Broken Arrow
UID:e.1307.4858
SEQUENCE:3
DTSTAMP:20260424T125949Z
URL:https://business.cowetachamber.com/events/details/2025-ribbon-cutting-brian-cannon-state-farm-insurance-4858
END:VEVENT

END:VCALENDAR
