BEGIN:VCALENDAR
VERSION:2.0
PRODID:-//ChamberMaster//Event Calendar 2.0//EN
METHOD:PUBLISH
X-PUBLISHED-TTL:P3D
REFRESH-INTERVAL:P3D
CALSCALE:GREGORIAN
BEGIN:VEVENT
DTSTART:20250826T223000Z
DTEND:20250827T000000Z
X-MICROSOFT-CDO-ALLDAYEVENT:FALSE
SUMMARY:2025 Open House at House of Colour Coweta
DESCRIPTION:Learn how an amazing line of makeup and a Color and Style Analysis at House of Colour Coweta can help you look and feel your absolute best at this Open House event.\n\n\n\nGwendolyn Belman\, House of Colour franchise owner and image consultant\, will give a mini color analysis to demonstrate how you can have a harmonious mix and match wardrobe. You can also sample makeup products.\n\n\n\n"There will be no more wondering why something just doesn't work. You'll find the shades that light you up so shopping (and getting dressed) become a breeze\," Belman said. "Trends come and go\, but our shape\, personality and lifestyle? That's what matters! Style analysis helps you dress in a way that feels like you."\n\n\n\nHors d'oeuvres and drinks will be served\, and door prizes will be awarded.\n\n\n\nSpace is limited\, so please reserve a spot early. Please RSVP by text to 918-770-5550.
X-ALT-DESC;FMTTYPE=text/html:Learn how an amazing line of makeup and a Color and Style Analysis at House of Colour Coweta can help you look and feel your absolute best at this Open House event.<br />\n<br />\nGwendolyn Belman\, House of Colour franchise owner and image consultant\, will give a mini color analysis to demonstrate how you can have a harmonious mix and match wardrobe. You can also sample makeup products.<br />\n<br />\n&ldquo\;There will be no more wondering why something just doesn&rsquo\;t work. You&rsquo\;ll find the shades that light you up so shopping (and getting dressed) become a breeze\,&rdquo\; Belman said. &ldquo\;Trends come and go\, but our shape\, personality and lifestyle? That&rsquo\;s what matters! Style analysis helps you dress in a way that feels like you.&rdquo\;<br />\n<br />\nHors d&rsquo\;oeuvres and drinks will be served\, and door prizes will be awarded.<br />\n<br />\nSpace is limited\, so please reserve a spot early. Please RSVP by text to 918-770-5550.
LOCATION:House of Colour Coweta 13441 S. 270th E. Ave. Coweta
UID:e.1307.5283
SEQUENCE:3
DTSTAMP:20260424T113111Z
URL:https://business.cowetachamber.com/events/details/2025-open-house-at-house-of-colour-coweta-5283
END:VEVENT

END:VCALENDAR
