BEGIN:VCALENDAR
VERSION:2.0
PRODID:-//ChamberMaster//Event Calendar 2.0//EN
METHOD:PUBLISH
X-PUBLISHED-TTL:P3D
REFRESH-INTERVAL:P3D
CALSCALE:GREGORIAN
BEGIN:VEVENT
DTSTART:20250510T140000Z
DTEND:20250510T180000Z
X-MICROSOFT-CDO-ALLDAYEVENT:FALSE
SUMMARY:2025 May10th Saturday Street Market
DESCRIPTION:Payment of $25 will be collected upon your arrival.  CASH OR CHECK ONLY made payable to Downtown Activities Committee. \n \n\nSetup begins at 7 a.m. & placement will be on a first come\, first serve basis. Everyone must be completely set up & ready to go by 8:45 a.m. for a FB Live. No one will be allowed to begin tear down until 1 p.m. - no exceptions.  \n \n\nThe Coweta Chamber of Commerce\, Downtown Activities Committee\, City of Coweta & all representatives from these organizations will not be responsible for accidents\, damage\, or injuries that might occur from setup\, tear down and other activities during this event.  \n\n \n\nSpots will be 10' x 10'.  You are welcome to bring tents but please bring tie downs in the event of wind.  There will be no access to electric. Please initial that you understand these rules:  \n \n\nNo food truck\, no bounce/jump houses\, no petting zoo/animal adoption booths.  \n \n\nThere will be no public restrooms available. However\, vendors will be allowed to use the restroom at 4 Tons of Blessings at 120 N Broadway.  You can walk down the alley & come in the back door if you prefer.  \n \n\nIf making home baked items\, you must follow Health Department guidelines for the Cottage Law direct to customer rules.  Please contact the health department for additional questions.
X-ALT-DESC;FMTTYPE=text/html:<p dir="ltr" style="line-height:1.38\;margin-top:0pt\;margin-bottom:0pt\;"><span id="docs-internal-guid-73907aa6-7fff-44f6-00fb-0942a3421fb1"><span style="font-size: 11pt\; font-family: Arial\, sans-serif\; font-variant-numeric: normal\; font-variant-east-asian: normal\; font-variant-alternates: normal\; font-variant-position: normal\; vertical-align: baseline\; white-space-collapse: preserve\;">Payment of $25 will be collected upon your arrival.&nbsp\; CASH OR CHECK ONLY made payable to Downtown Activities Committee.&nbsp\;</span></span></p>\n&nbsp\;\n\n<p dir="ltr" style="line-height:1.38\;margin-top:0pt\;margin-bottom:0pt\;"><span id="docs-internal-guid-73907aa6-7fff-44f6-00fb-0942a3421fb1"><span style="font-size: 11pt\; font-family: Arial\, sans-serif\; font-variant-numeric: normal\; font-variant-east-asian: normal\; font-variant-alternates: normal\; font-variant-position: normal\; vertical-align: baseline\; white-space-collapse: preserve\;">Setup begins at 7 a.m. &amp\; placement will be on a first come\, first serve basis. Everyone must be completely set up &amp\; ready to go by 8:45 a.m. for a FB Live. No one will be allowed to begin tear down until 1 p.m. - no exceptions.&nbsp\;&nbsp\;</span></span></p>\n&nbsp\;\n\n<p dir="ltr" style="line-height:1.38\;margin-top:0pt\;margin-bottom:0pt\;"><span id="docs-internal-guid-73907aa6-7fff-44f6-00fb-0942a3421fb1"><span style="font-size: 11pt\; font-family: Arial\, sans-serif\; font-variant-numeric: normal\; font-variant-east-asian: normal\; font-variant-alternates: normal\; font-variant-position: normal\; vertical-align: baseline\; white-space-collapse: preserve\;">The Coweta Chamber of Commerce\, Downtown Activities Committee\, City of Coweta &amp\; all representatives from these organizations will not be responsible for accidents\, damage\, or injuries that might occur from setup\, tear down and other activities during this event.&nbsp\; </span></span><br />\n&nbsp\;</p>\n\n<p dir="ltr" style="line-height:1.38\;margin-top:0pt\;margin-bottom:0pt\;"><span id="docs-internal-guid-73907aa6-7fff-44f6-00fb-0942a3421fb1"><span style="font-size: 11pt\; font-family: Arial\, sans-serif\; font-variant-numeric: normal\; font-variant-east-asian: normal\; font-variant-alternates: normal\; font-variant-position: normal\; vertical-align: baseline\; white-space-collapse: preserve\;">Spots will be 10&rsquo\; x 10&rsquo\;.&nbsp\; You are welcome to bring tents but please bring tie downs in the event of wind.&nbsp\; There will be no access to electric. Please initial that you understand these rules:&nbsp\;&nbsp\;</span></span></p>\n&nbsp\;\n\n<p dir="ltr" style="line-height:1.38\;margin-top:0pt\;margin-bottom:0pt\;"><span id="docs-internal-guid-73907aa6-7fff-44f6-00fb-0942a3421fb1"><span style="font-size: 11pt\; font-family: Arial\, sans-serif\; font-variant-numeric: normal\; font-variant-east-asian: normal\; font-variant-alternates: normal\; font-variant-position: normal\; vertical-align: baseline\; white-space-collapse: preserve\;">No food truck\, no bounce/jump houses\, no petting zoo/animal adoption booths.&nbsp\;&nbsp\;</span></span></p>\n&nbsp\;\n\n<p dir="ltr" style="line-height:1.38\;margin-top:0pt\;margin-bottom:0pt\;"><span id="docs-internal-guid-73907aa6-7fff-44f6-00fb-0942a3421fb1"><span style="font-size: 11pt\; font-family: Arial\, sans-serif\; font-variant-numeric: normal\; font-variant-east-asian: normal\; font-variant-alternates: normal\; font-variant-position: normal\; vertical-align: baseline\; white-space-collapse: preserve\;">There will be no public restrooms available. However\, vendors will be allowed to use the restroom at 4 Tons of Blessings at 120 N Broadway.&nbsp\; You can walk down the alley &amp\; come in the back door if you prefer.&nbsp\;&nbsp\;</span></span></p>\n&nbsp\;\n\n<p dir="ltr" style="line-height:1.38\;margin-top:0pt\;margin-bottom:0pt\;"><span id="docs-internal-guid-73907aa6-7fff-44f6-00fb-0942a3421fb1"><span style="font-size: 11pt\; font-family: Arial\, sans-serif\; font-variant-numeric: normal\; font-variant-east-asian: normal\; font-variant-alternates: normal\; font-variant-position: normal\; vertical-align: baseline\; white-space-collapse: preserve\;">If making home baked items\, you must follow Health Department guidelines for the Cottage Law direct to customer rules.&nbsp\; Please contact the health department for additional questions.&nbsp\; </span></span></p>\n
LOCATION:100 Block of West Sycamore Downtown Coweta
UID:e.1307.4865
SEQUENCE:3
DTSTAMP:20260424T130037Z
URL:https://business.cowetachamber.com/events/details/2025-may10th-saturday-street-market-4865
END:VEVENT

END:VCALENDAR
