BEGIN:VCALENDAR
VERSION:2.0
PRODID:-//ChamberMaster//Event Calendar 2.0//EN
METHOD:PUBLISH
X-PUBLISHED-TTL:P3D
REFRESH-INTERVAL:P3D
CALSCALE:GREGORIAN
BEGIN:VEVENT
DTSTART:20250521T170000Z
DTEND:20250521T180000Z
X-MICROSOFT-CDO-ALLDAYEVENT:FALSE
SUMMARY:2025 May General Membership Meeting
DESCRIPTION:Leadership Wagoner County 2.0 is kicking off in August\, and Coweta Chamber members are encouraged to take advantage of this important leadership development opportunity.\n\n\n\nJoining us for this meeting will be Kyle Sullivan\, a leadership coach and founder of Unleash the Champ. Kyle will facilitate the LWC program in an effort to equip participants to create real impact. His goal is to help leaders perform better\, communicate stronger and lead with purpose.\n\n\n\nWe will also hear from representatives with the Coweta Education Foundation about their mission and efforts to grow their organization through business and community involvement.\n\n\n\nPlease mark your calendar to join us. Support a local restaurant\, pick up a "to go" order for lunch and bring it with you. Remember your business cards as well for networking opportunities.
X-ALT-DESC;FMTTYPE=text/html:<span style="font-size:14px\;">Leadership Wagoner County 2.0 is kicking off in August\, and Coweta Chamber members are encouraged to take advantage of this important leadership development opportunity.<br />\n<br />\nJoining us for this meeting will be Kyle Sullivan\, a leadership coach and founder of Unleash the Champ. Kyle will facilitate the LWC program in an effort to equip participants to create real impact. His goal is to help leaders perform better\, communicate stronger and lead with purpose.<br />\n<br />\nWe will also hear from representatives with the Coweta Education Foundation about their mission and efforts to grow their organization through business and community involvement.<br />\n<br />\nPlease mark your calendar to join us. Support a local restaurant\, pick up a &quot\;to go&quot\; order for lunch and bring it with you. Remember your business cards as well for networking opportunities.</span>
LOCATION:Coweta Assembly Family Life Center 29707 E. State Hwy. 51 Coweta
UID:e.1307.4866
SEQUENCE:3
DTSTAMP:20260424T125754Z
URL:https://business.cowetachamber.com/events/details/2025-may-general-membership-meeting-4866
END:VEVENT

END:VCALENDAR
