BEGIN:VCALENDAR
VERSION:2.0
PRODID:-//ChamberMaster//Event Calendar 2.0//EN
METHOD:PUBLISH
X-PUBLISHED-TTL:P3D
REFRESH-INTERVAL:P3D
CALSCALE:GREGORIAN
BEGIN:VEVENT
DTSTART:20250508T124500Z
DTEND:20250508T140000Z
X-MICROSOFT-CDO-ALLDAYEVENT:FALSE
SUMMARY:2025 May Coffee & Conversation
DESCRIPTION:Networking is like coffee - energizing\, warm and best enjoyed with great company. Join us this month at American Legion Post 226 as we gather for Coffee & Conversation\, hosted by our chamber investors with The Cupcakery Cakes & Catering. The Cupcakery owner Chrissy Charlex will bring some tasty muffins and bagels to start your morning off right!\n\n\n\nBring your business card and make some business connections. See you on May 8!
X-ALT-DESC;FMTTYPE=text/html:Networking is like coffee - energizing\, warm and best enjoyed with great company. Join us this month at American Legion Post 226 as we gather for Coffee &amp\; Conversation\, hosted by our chamber investors with The Cupcakery Cakes &amp\; Catering. The Cupcakery owner Chrissy Charlex will bring some tasty muffins and bagels to start your morning off right!<br />\n<br />\nBring your business card and make some business connections. See you on May 8!
LOCATION:American Legion Post 226 600 S. Broadway Downtown Coweta
UID:e.1307.4863
SEQUENCE:3
DTSTAMP:20260424T112348Z
URL:https://business.cowetachamber.com/events/details/2025-may-coffee-conversation-4863
END:VEVENT

END:VCALENDAR
