BEGIN:VCALENDAR
VERSION:2.0
PRODID:-//ChamberMaster//Event Calendar 2.0//EN
METHOD:PUBLISH
X-PUBLISHED-TTL:P3D
REFRESH-INTERVAL:P3D
CALSCALE:GREGORIAN
BEGIN:VEVENT
DTSTART:20250319T170000Z
DTEND:20250319T180000Z
X-MICROSOFT-CDO-ALLDAYEVENT:FALSE
SUMMARY:2025 March General Membership Meeting
DESCRIPTION:We are excited to share information about local efforts to make both Coweta and Wagoner County Oklahoma Film Friendly certified. Becoming film certified paves the way for production companies to come into our area for work on movies. This work has a significant economic impact when it comes to an area.\n\n \n\nOur guest speaker will be Heather Simon with Top Flite Home Loans who is representing Coweta in this discussion.\n\n \n\nPlease support a local restaurant\, pick up a "to go" order and bring it with you. Remember your business cards as well for networking opportunities.
X-ALT-DESC;FMTTYPE=text/html:We are excited to share information about local efforts to make both Coweta and Wagoner County Oklahoma Film Friendly certified. Becoming film certified paves the way for production companies to come into our area for work on movies. This work has a significant economic impact when it comes to an area.<br />\n&nbsp\;<br />\nOur guest speaker will be Heather Simon with Top Flite Home Loans who is representing Coweta in this discussion.<br />\n&nbsp\;<br />\nPlease support a local restaurant\, pick up a &quot\;to go&quot\; order and bring it with you. Remember your business cards as well for networking opportunities.
LOCATION:Coweta Assembly Family Life Center 29707 E. State Hwy. 51 Coweta
UID:e.1307.4852
SEQUENCE:3
DTSTAMP:20260424T162018Z
URL:https://business.cowetachamber.com/events/details/2025-march-general-membership-meeting-4852
END:VEVENT

END:VCALENDAR
