BEGIN:VCALENDAR
VERSION:2.0
PRODID:-//ChamberMaster//Event Calendar 2.0//EN
METHOD:PUBLISH
X-PUBLISHED-TTL:P3D
REFRESH-INTERVAL:P3D
CALSCALE:GREGORIAN
BEGIN:VEVENT
DTSTART:20250612T124500Z
DTEND:20250612T140000Z
X-MICROSOFT-CDO-ALLDAYEVENT:FALSE
SUMMARY:2025 June Coffee & Conversation
DESCRIPTION:Networking is like coffee - energizing\, warm and best enjoyed with great company. Join us this month at Chinowth & Cohen in the Downtown Coweta Broadway District as we gather for Coffee & Conversation.\n\n\n\nBring your business card and make some business connections. See you on June 12!
X-ALT-DESC;FMTTYPE=text/html:Networking is like coffee - energizing\, warm and best enjoyed with great company. Join us this month at Chinowth &amp\; Cohen in the Downtown Coweta Broadway District as we gather for Coffee &amp\; Conversation.<br />\n<br />\nBring your business card and make some business connections. See you on June 12!
LOCATION:Chinowth & Cohen 128 N. Broadway Downtown Coweta
UID:e.1307.4868
SEQUENCE:3
DTSTAMP:20260424T125634Z
URL:https://business.cowetachamber.com/events/details/2025-june-coffee-conversation-4868
END:VEVENT

END:VCALENDAR
