BEGIN:VCALENDAR
VERSION:2.0
PRODID:-//ChamberMaster//Event Calendar 2.0//EN
METHOD:PUBLISH
X-PUBLISHED-TTL:P3D
REFRESH-INTERVAL:P3D
CALSCALE:GREGORIAN
BEGIN:VEVENT
DTSTART:20250716T170000Z
DTEND:20250716T180000Z
X-MICROSOFT-CDO-ALLDAYEVENT:FALSE
SUMMARY:2025 July General Membership Meeting
DESCRIPTION:Court Appointed Special Advocates (CASA) for Children need our help to bolster their efforts in support of abused and neglected children in our community.\n\n\n\nJoin us this Wednesday as CASA Training & Outreach Coordinator Jenny Crosby speaks on CASA's needs in Wagoner County and how we can get involved.\n\n\n\nWe will also give an update on the upcoming 50th Annual Coweta Fall Festival. Our largest community event is just two months away!\n\n\n\nPlease mark your calendar to join us. Support a local restaurant\, pick up a "to go" order for lunch and bring it with you. Remember your business cards as well for networking opportunities.
X-ALT-DESC;FMTTYPE=text/html:Court Appointed Special Advocates (CASA) for Children need our help to bolster their efforts in support of abused and neglected children in our community.<br />\n<br />\nJoin us this Wednesday as CASA Training &amp\; Outreach Coordinator Jenny Crosby speaks on CASA&rsquo\;s needs in Wagoner County and how we can get involved.<br />\n<br />\nWe will also give an update on the upcoming 50<sup>th</sup> Annual Coweta Fall Festival. Our largest community event is just two months away!<br />\n<br />\nPlease mark your calendar to join us. Support a local restaurant\, pick up a &quot\;to go&quot\; order for lunch and bring it with you. Remember your business cards as well for networking opportunities.
LOCATION:Coweta Assembly Family Life Center 29707 E. State Hwy. 51 Coweta
UID:e.1307.5282
SEQUENCE:3
DTSTAMP:20260424T100602Z
URL:https://business.cowetachamber.com/events/details/2025-july-general-membership-meeting-5282
END:VEVENT

END:VCALENDAR
