BEGIN:VCALENDAR
VERSION:2.0
PRODID:-//ChamberMaster//Event Calendar 2.0//EN
METHOD:PUBLISH
X-PUBLISHED-TTL:P3D
REFRESH-INTERVAL:P3D
CALSCALE:GREGORIAN
BEGIN:VEVENT
DTSTART:20250710T124500Z
DTEND:20250710T140000Z
X-MICROSOFT-CDO-ALLDAYEVENT:FALSE
SUMMARY:2025 July Coffee & Conversation
DESCRIPTION:Networking is like coffee - energizing\, warm and best enjoyed with great company. Join us this Thursday\, July 10 at RCB Bank as we gather for Coffee & Conversation. Our thanks to Pam Morris and her team for hosting and providing morning snacks.\n\n\n\nTo help us with a head count\, please go to https://cowetachamber.chambermaster.com/eventregistration/register/5278  to register your intent to attend.\n\n\n\nBring your business card and make some business connections. See you on July 10!
X-ALT-DESC;FMTTYPE=text/html:Networking is like coffee - energizing\, warm and best enjoyed with great company. Join us this Thursday\, July 10 at RCB Bank as we gather for Coffee &amp\; Conversation. Our thanks to Pam Morris and her team for hosting and providing morning snacks.<br />\n<br />\nTo help us with a head count\, please go to <a href="https://cowetachamber.chambermaster.com/eventregistration/register/5278">https://cowetachamber.chambermaster.com/eventregistration/register/5278</a>&nbsp\; to register your intent to attend.<br />\n<br />\nBring your business card and make some business connections. See you on July 10!<br />\n&nbsp\;
LOCATION:RCB Bank 27010 E. 1116h St. South Coweta
UID:e.1307.5278
SEQUENCE:3
DTSTAMP:20260424T095421Z
URL:https://business.cowetachamber.com/events/details/2025-july-coffee-conversation-5278
END:VEVENT

END:VCALENDAR
