BEGIN:VCALENDAR
VERSION:2.0
PRODID:-//ChamberMaster//Event Calendar 2.0//EN
METHOD:PUBLISH
X-PUBLISHED-TTL:P3D
REFRESH-INTERVAL:P3D
CALSCALE:GREGORIAN
BEGIN:VEVENT
DTSTART:20250115T180000Z
DTEND:20250115T190000Z
X-MICROSOFT-CDO-ALLDAYEVENT:FALSE
SUMMARY:2025 January General Membership Meeting
DESCRIPTION:It's a new year\, so let's talk taxes. Wagoner County Assessor Sandy Hodges will join us on Wednesday\, Jan. 15 to share important information about property taxes.\n\n\n\nThis is a free meeting\, no meal will be served. Please support a local restaurant\, pick up a "to go" order and bring it with you. Remember your business cards as well for networking opportunities.
X-ALT-DESC;FMTTYPE=text/html:It&#39\;s a new year\, so let&#39\;s talk taxes. Wagoner County Assessor Sandy Hodges will join us on Wednesday\, Jan. 15 to share important information about property taxes.<br />\n<br />\nThis is a free meeting\, no meal will be served. Please support a local restaurant\, pick up a &quot\;to go&quot\; order and bring it with you. Remember your business cards as well for networking opportunities.
LOCATION:Coweta Assembly Family Life Center 29707 E. State Hwy. 51 Coweta
UID:e.1307.4835
SEQUENCE:3
DTSTAMP:20260424T193649Z
URL:https://business.cowetachamber.com/events/details/2025-january-general-membership-meeting-4835
END:VEVENT

END:VCALENDAR
