BEGIN:VCALENDAR
VERSION:2.0
PRODID:-//ChamberMaster//Event Calendar 2.0//EN
METHOD:PUBLISH
X-PUBLISHED-TTL:P3D
REFRESH-INTERVAL:P3D
CALSCALE:GREGORIAN
BEGIN:VEVENT
DTSTART:20250213T134500Z
DTEND:20250213T150000Z
X-MICROSOFT-CDO-ALLDAYEVENT:FALSE
SUMMARY:2025 February Coffee & Conversation - CANCELLED/WEATHER
DESCRIPTION:Networking is like coffee - energizing\, warm and best enjoyed with great company. Join us this month as we gather for Coffee & Conversation.\n\n\n\nBring your business card and make some business connections. See you on February 13!
X-ALT-DESC;FMTTYPE=text/html:Networking is like coffee - energizing\, warm and best enjoyed with great company. Join us this month as we gather for Coffee &amp\; Conversation.<br />\n<br />\nBring your business card and make some business connections. See you on February 13!
LOCATION:Green Country Federal Credit Union 11319 S. Highway 51 Suite 900 Coweta
UID:e.1307.4839
SEQUENCE:3
DTSTAMP:20260424T162046Z
URL:https://business.cowetachamber.com/events/details/2025-february-coffee-conversation-cancelled-weather-4839
END:VEVENT

END:VCALENDAR
