BEGIN:VCALENDAR
VERSION:2.0
PRODID:-//ChamberMaster//Event Calendar 2.0//EN
METHOD:PUBLISH
X-PUBLISHED-TTL:P3D
REFRESH-INTERVAL:P3D
CALSCALE:GREGORIAN
BEGIN:VEVENT
DTSTART:20250621T230000Z
DTEND:20250622T030000Z
X-MICROSOFT-CDO-ALLDAYEVENT:FALSE
SUMMARY:2025 Father's Day Fireworks Demonstration by Great Scott Fireworks
DESCRIPTION:Come and watch "The Fireworks Guy"\, a.k.a. Randy Scott\, demonstrate a wide variety of unique products at this Father's Day Fireworks Demo! Take your dad out to dinner in Coweta then bring him out for the show.  Don't forget your lawn chairs!\n\n\n\nGates open at 6 a.m. and admission is free. Concessions will be available for purchase from the Broken Arrow Round Up Club. A fireworks safety class will be offered at 7:15 p.m. and patrons can enjoy music throughout the evening.\n\n\n\nOne hundred dollars ($100) worth of fireworks will be given away every 15 minutes beginning at 6:30 p.m. \n\n\n\nFor more information\, go to the Great Scott Fireworks Facebook Page.
X-ALT-DESC;FMTTYPE=text/html:Come and watch &quot\;The Fireworks Guy&quot\;\, a.k.a. Randy Scott\, demonstrate a wide variety of unique products at this Father&#39\;s Day Fireworks Demo! Take your dad out to dinner in Coweta then bring him out for the show.&nbsp\; Don&#39\;t forget your lawn chairs!<br />\n<br />\nGates open at 6 a.m. and admission is free. Concessions will be available for purchase from the Broken Arrow Round Up Club. A fireworks safety class will be offered at 7:15 p.m. and patrons can enjoy music throughout the evening.<br />\n<br />\nOne hundred dollars ($100) worth of fireworks will be given away every 15 minutes beginning at 6:30 p.m.&nbsp\;<br />\n<br />\nFor more information\, go to the Great Scott Fireworks Facebook Page.
LOCATION:Broken Arrow Rodeo Arena 10505 S. 241st E. Ave. Broken Arrow
UID:e.1307.4870
SEQUENCE:3
DTSTAMP:20260424T112723Z
URL:https://business.cowetachamber.com/events/details/2025-father-s-day-fireworks-demonstration-by-great-scott-fireworks-4870
END:VEVENT

END:VCALENDAR
