BEGIN:VCALENDAR
VERSION:2.0
PRODID:-//ChamberMaster//Event Calendar 2.0//EN
METHOD:PUBLISH
X-PUBLISHED-TTL:P3D
REFRESH-INTERVAL:P3D
CALSCALE:GREGORIAN
BEGIN:VEVENT
DTSTART:20250424T200000Z
DTEND:20250424T210000Z
X-MICROSOFT-CDO-ALLDAYEVENT:FALSE
SUMMARY:2025 Estate Planning Program hosted by FNB Coweta
DESCRIPTION:"Securing Your Legacy: A Guide to Estate Planning" is the theme of this afternoon program hosted by FNB Coweta.\n\n\n\nMegan L. Whipp\, Estate Planning Attorney and Managing Partner of Whipp Law PLLC\, will present information you need to know when planning for the future. \n\n\n\nAppetizers will be provided.\n\n\n\nFor more information\, contact Scott Reeves at sreeves@fnbcoweta.com.
X-ALT-DESC;FMTTYPE=text/html:&quot\;Securing Your Legacy: A Guide to Estate Planning&quot\; is the theme of this afternoon program hosted by FNB Coweta.<br />\n<br />\nMegan L. Whipp\, Estate Planning Attorney and Managing Partner of Whipp Law PLLC\, will present information you need to know when planning for the future.&nbsp\;<br />\n<br />\nAppetizers will be provided.<br />\n<br />\nFor more information\, contact Scott Reeves at sreeves@fnbcoweta.com.
LOCATION:Sports Page Steakhouse 13747 OK-51\, Suite B Coweta
UID:e.1307.4848
SEQUENCE:3
DTSTAMP:20260424T125811Z
URL:https://business.cowetachamber.com/events/details/2025-estate-planning-program-hosted-by-fnb-coweta-4848
END:VEVENT

END:VCALENDAR
