BEGIN:VCALENDAR
VERSION:2.0
PRODID:-//ChamberMaster//Event Calendar 2.0//EN
METHOD:PUBLISH
X-PUBLISHED-TTL:P3D
REFRESH-INTERVAL:P3D
CALSCALE:GREGORIAN
BEGIN:VEVENT
DTSTART:20250930T190000Z
DTEND:20250930T230000Z
X-MICROSOFT-CDO-ALLDAYEVENT:FALSE
SUMMARY:2025 DAC Veterans Banner Project
DESCRIPTION:Honor the special veteran in your life by purchasing a Veterans Banner to showcase in the Downtown Coweta Broadway District.\n\n\n\nSponsored by the Downtown Activities Committee\, the banner project will feature up to 50 banners placed on black lamp posts between Chestnut Street and Pecan Street. \n\n\n\nBanners will be sold for $100 each on a first-come\, first purchased basis. When families buy their banners\, they will be given a card with instructions for submitting veteran photos. The DAC will not take possession of submissions.\n\n\n\nBanners will be displayed during the fall months until Christmas holiday decorations go up. When they come down\, families can retrieve their purchased item.
X-ALT-DESC;FMTTYPE=text/html:<span style="color: rgb(51\, 51\, 51)\; font-family: sans-serif\, Arial\, Verdana\, &quot\;Trebuchet MS&quot\;\; font-size: 13px\; background-color: rgb(255\, 255\, 255)\;">Honor the special veteran in your life by purchasing a Veterans Banner to showcase in the Downtown Coweta Broadway District.<br />\n<br />\nSponsored by the Downtown Activities Committee\, the banner project will feature up to 50 banners placed on black lamp posts between Chestnut Street and Pecan Street.&nbsp\;<br />\n<br />\nBanners will be sold for $100 each on a first-come\, first purchased basis. When families buy their banners\, they will be given a card with instructions for submitting veteran photos. The DAC will not take possession of submissions.<br />\n<br />\nBanners will be displayed during the fall months until Christmas holiday decorations go up. When they come down\, families can retrieve their purchased item.</span>
LOCATION:Coweta Chamber of Commerce 115 S. Broadway Downtown Coweta
UID:e.1307.5289
SEQUENCE:3
DTSTAMP:20260422T204717Z
URL:https://business.cowetachamber.com/events/details/2025-dac-veterans-banner-project-5289
END:VEVENT

END:VCALENDAR
