BEGIN:VCALENDAR
VERSION:2.0
PRODID:-//ChamberMaster//Event Calendar 2.0//EN
METHOD:PUBLISH
X-PUBLISHED-TTL:P3D
REFRESH-INTERVAL:P3D
CALSCALE:GREGORIAN
BEGIN:VEVENT
DTSTART:20250626T173000Z
DTEND:20250626T223000Z
X-MICROSOFT-CDO-ALLDAYEVENT:FALSE
SUMMARY:2025 Coweta Boots & Badges Community Challenge Blood Drive
DESCRIPTION:Join our emergency service responders with the Coweta Fire Department and Coweta Police Department as they compete in a friendly competition to "recruit" area residents to donate blood to the Oklahoma Blood Institute.\n\n\n\nEvery donor will receive a Boots & Badges t-shirt.\n\n\n\nWalk-ins are welcome\, however appointments are encouraged to minimize wait times. To make an appointment\, call 877-340-8777 or go to OBI.org.
X-ALT-DESC;FMTTYPE=text/html:Join our emergency service responders with the Coweta Fire Department and Coweta Police Department as they compete in a friendly competition to &quot\;recruit&quot\; area residents to donate blood to the Oklahoma Blood Institute.<br />\n<br />\nEvery donor will receive a Boots &amp\; Badges t-shirt.<br />\n<br />\nWalk-ins are welcome\, however appointments are encouraged to minimize wait times. To make an appointment\, call 877-340-8777 or go to OBI.org.
LOCATION:Coweta Assembly Family Life Center 29707 E. State Highway 51 Coweta\, OK
UID:e.1307.4872
SEQUENCE:3
DTSTAMP:20260424T130036Z
URL:https://business.cowetachamber.com/events/details/2025-coweta-boots-badges-community-challenge-blood-drive-4872
END:VEVENT

END:VCALENDAR
