BEGIN:VCALENDAR
VERSION:2.0
PRODID:-//ChamberMaster//Event Calendar 2.0//EN
METHOD:PUBLISH
X-PUBLISHED-TTL:P3D
REFRESH-INTERVAL:P3D
CALSCALE:GREGORIAN
BEGIN:VEVENT
DTSTART:20250329T163000Z
DTEND:20250329T170000Z
X-MICROSOFT-CDO-ALLDAYEVENT:FALSE
SUMMARY:2025 Community Easter Egg Hunt presented by CrossPoint Baptist Church
DESCRIPTION:Join us at the 12th Annual Wagoner County Emergency Preparedness Expo in Coweta where CrossPoint Baptist Church w ill present its annual Community Easter Egg Hunt.\n\n\n\nThe hunt for infants through 2nd grade will be at 11:30 a.m. Children in 3rd through 6th grades will hunt eggs at 11:45 a.m. This is a great event for our community!\n\n\n\nCome early and stay afterwards to check out the indoor and outdoor Expo vendors\, participate in a scavenger hunt\, register for door prizes and check out the many entries in the 2025 Coweta Classic Car Show. Admission is free!\n\n\n\nIf you are a blood donor\, you can participate in the Wagoner County Schools Blood Drive\, put on by Our Blood Institute in the I-High Commons Area.\n\n\n\nThere will be a few food vendors on site for your dining pleasure.
X-ALT-DESC;FMTTYPE=text/html:Join us at the 12th Annual Wagoner County Emergency Preparedness Expo in Coweta where CrossPoint Baptist Church w ill present its annual Community Easter Egg Hunt.<br />\n<br />\nThe hunt for infants through 2nd grade will be at 11:30 a.m. Children in 3rd through 6th grades will hunt eggs at 11:45 a.m. This is a great event for our community!<br />\n<br />\nCome early and stay afterwards to check out the indoor and outdoor Expo vendors\, participate in a scavenger hunt\, register for door prizes and check out the many entries in the 2025 Coweta Classic Car Show. Admission is free!<br />\n<br />\nIf you are a blood donor\, you can participate in the Wagoner County Schools Blood Drive\, put on by Our Blood Institute in the I-High Commons Area.<br />\n<br />\nThere will be a few food vendors on site for your dining pleasure.
LOCATION:Coweta Intermediate High School 14669 S. 305th E. Ave. Southeast Corner of the Campus Coweta
UID:e.1307.4846
SEQUENCE:3
DTSTAMP:20260424T144303Z
URL:https://business.cowetachamber.com/events/details/2025-community-easter-egg-hunt-presented-by-crosspoint-baptist-church-4846
END:VEVENT

END:VCALENDAR
