BEGIN:VCALENDAR
VERSION:2.0
PRODID:-//ChamberMaster//Event Calendar 2.0//EN
METHOD:PUBLISH
X-PUBLISHED-TTL:P3D
REFRESH-INTERVAL:P3D
CALSCALE:GREGORIAN
BEGIN:VEVENT
DTSTART:20250311T140000Z
DTEND:20250311T160000Z
X-MICROSOFT-CDO-ALLDAYEVENT:FALSE
SUMMARY:2025 Business Workshop Series: The Importance of Using Social Media
DESCRIPTION:Learn why social media is crucial for personal and professional success in today's digital world.\n\n\n\nDiscover how social platforms can help you reach a wider audience\, connect with customers\, and grow your business. Whether you are a small business owner\, marketer or social media enthusiast\, this event is perfect for anyone looking to harness the potential of social media. Do not miss this opportunity to level up your online presence.\n\n\n\nPresenting the workshop will be officials with REI Tulsa.\n\n\n\nTo register\, CLICK  HERE.
X-ALT-DESC;FMTTYPE=text/html:Learn why social media is crucial for personal and professional success in today&#39\;s digital world.<br />\n<br />\nDiscover how social platforms can help you reach a wider audience\, connect with customers\, and grow your business. Whether you are a small business owner\, marketer or social media enthusiast\, this event is perfect for anyone looking to harness the potential of social media.&nbsp\;Do not miss this opportunity to level up your online presence.<br />\n<br />\nPresenting the workshop will be officials with REI Tulsa.<br />\n<br />\nTo register\, <a href="https://www.eventbrite.com/e/the-importance-of-using-social-media-tickets-1115893971909?aff=oddtdtcreator .">CLICK&nbsp\; HERE</a>.&nbsp\;&nbsp\;<br />\n&nbsp\;
LOCATION:Indian Capital Technology Center - Coweta Campus 31350 State Hwy. 51 Coweta
UID:e.1307.4841
SEQUENCE:3
DTSTAMP:20260424T144406Z
URL:https://business.cowetachamber.com/events/details/2025-business-workshop-series-the-importance-of-using-social-media-4841
END:VEVENT

END:VCALENDAR
