BEGIN:VCALENDAR
VERSION:2.0
PRODID:-//ChamberMaster//Event Calendar 2.0//EN
METHOD:PUBLISH
X-PUBLISHED-TTL:P3D
REFRESH-INTERVAL:P3D
CALSCALE:GREGORIAN
BEGIN:VEVENT
DTSTART:20250909T140000Z
DTEND:20250909T160000Z
X-MICROSOFT-CDO-ALLDAYEVENT:FALSE
SUMMARY:2025 Business Workshop Series: How to Build a Company Brand
DESCRIPTION:Learn how to create a strong company brand from scratch in our interactive workshop presented by Elizabeth King Consulting.\n\n\n\nThis will be an insightful session on creating a strong brand for your company. Learn from industry experts and successful entrepreneurs as they share their tips and tricks on establishing a memorable brand identity.\n\n\n\nWhether you are a startup or an established business\, this event is perfect for anyone looking to elevate their brand presence. Do not miss this opportunity to take your company to the next level.\n\n\n\nTo register\, CLICK HERE.
X-ALT-DESC;FMTTYPE=text/html:Learn how to create a strong company brand from scratch in our interactive workshop presented by Elizabeth King Consulting.<br />\n<br />\nThis will be an insightful session on creating a strong brand for your company. Learn from industry experts and successful entrepreneurs as they share their tips and tricks on establishing a memorable brand identity.<br />\n<br />\nWhether you are a startup or an established business\, this event is perfect for anyone looking to elevate their brand presence. Do not miss this opportunity to take your company to the next level.<br />\n<br />\n<span style="font-family:aptos\,sans-serif\;"><span style="font-size:11.0pt\;">To register\, <a href="https://www.eventbrite.com/e/how-to-build-a-company-brand-tickets-1115912166329?aff=oddtdtcreator">CLICK HERE</a>.&nbsp\;</span></span>
LOCATION:Indian Capital Technology Center - Coweta Campus 31350 State Hwy. 51 Coweta
UID:e.1307.4844
SEQUENCE:3
DTSTAMP:20260422T205438Z
URL:https://business.cowetachamber.com/events/details/2025-business-workshop-series-how-to-build-a-company-brand-4844
END:VEVENT

END:VCALENDAR
