BEGIN:VCALENDAR
VERSION:2.0
PRODID:-//ChamberMaster//Event Calendar 2.0//EN
METHOD:PUBLISH
X-PUBLISHED-TTL:P3D
REFRESH-INTERVAL:P3D
CALSCALE:GREGORIAN
BEGIN:VEVENT
DTSTART:20250520T140000Z
DTEND:20250520T160000Z
X-MICROSOFT-CDO-ALLDAYEVENT:FALSE
SUMMARY:2025 Business Workshop Series: Financial Basics for Businesses and Entrepreneurs
DESCRIPTION:Learn how to manage your money like a pro at this ultimate crash course in personal finance. Whether you are a budgeting newbie or looking to sharpen your investing skills\, this event is perfect for anyone wanting to learn more about financial literacy.\n\n\n\nOur expert speakers with the Oklahoma Small Business Development Center will cover topics like budgeting\, saving\, investing and more. Do not miss this opportunity to take control of your finances and secure your future.\n\n\n\nTo register\, CLICK HERE.
X-ALT-DESC;FMTTYPE=text/html:Learn how to manage your money like a pro at this ultimate crash course in personal finance. Whether you are a budgeting newbie or looking to sharpen your investing skills\, this event is perfect for anyone wanting to learn more about financial literacy.<br />\n<br />\nOur expert speakers with the Oklahoma Small Business Development Center will cover topics like budgeting\, saving\, investing and more. Do not miss this opportunity to take control of your finances and secure your future.<br />\n<br />\nTo register\, <a href="https://www.eventbrite.com/e/financial-basics-for-businesses-and-entrepreneurs-tickets-1115903771219?aff=oddtdtcreator">CLICK HERE</a>.&nbsp\;
LOCATION:Indian Capital Technology Center - Coweta Campus 31350 State Hwy. 51 Coweta
UID:e.1307.4842
SEQUENCE:3
DTSTAMP:20260424T112954Z
URL:https://business.cowetachamber.com/events/details/2025-business-workshop-series-financial-basics-for-businesses-and-entrepreneurs-4842
END:VEVENT

END:VCALENDAR
